BEGIN:VCALENDAR
VERSION:2.0
PRODID:-//IBEW International Brotherhood of Electrical Workers Local 569 - ECPv6.15.13//NONSGML v1.0//EN
CALSCALE:GREGORIAN
METHOD:PUBLISH
X-ORIGINAL-URL:https://ibew569.org
X-WR-CALDESC:Events for IBEW International Brotherhood of Electrical Workers Local 569
REFRESH-INTERVAL;VALUE=DURATION:PT1H
X-Robots-Tag:noindex
X-PUBLISHED-TTL:PT1H
BEGIN:VTIMEZONE
TZID:America/Los_Angeles
BEGIN:DAYLIGHT
TZOFFSETFROM:-0800
TZOFFSETTO:-0700
TZNAME:PDT
DTSTART:20240310T100000
END:DAYLIGHT
BEGIN:STANDARD
TZOFFSETFROM:-0700
TZOFFSETTO:-0800
TZNAME:PST
DTSTART:20241103T090000
END:STANDARD
BEGIN:DAYLIGHT
TZOFFSETFROM:-0800
TZOFFSETTO:-0700
TZNAME:PDT
DTSTART:20250309T100000
END:DAYLIGHT
BEGIN:STANDARD
TZOFFSETFROM:-0700
TZOFFSETTO:-0800
TZNAME:PST
DTSTART:20251102T090000
END:STANDARD
BEGIN:DAYLIGHT
TZOFFSETFROM:-0800
TZOFFSETTO:-0700
TZNAME:PDT
DTSTART:20260308T100000
END:DAYLIGHT
BEGIN:STANDARD
TZOFFSETFROM:-0700
TZOFFSETTO:-0800
TZNAME:PST
DTSTART:20261101T090000
END:STANDARD
END:VTIMEZONE
BEGIN:VEVENT
DTSTART;TZID=America/Los_Angeles:20251205T100000
DTEND;TZID=America/Los_Angeles:20251205T140000
DTSTAMP:20260423T014531
CREATED:20250108T202855Z
LAST-MODIFIED:20250120T235124Z
UID:10000739-1764928800-1764943200@ibew569.org
SUMMARY:IBEW 569 Retirees
DESCRIPTION:Ready to get involved in your local community\, promote your union and meet new people who share your values? Why not join our IBEW 569 Retirees Club! These clubs are popular with IBEW retirees all over the nation. Our Retiree Club is involved in a range of activities from political volunteering to picket work to just grabbing a cup of coffee and chatting about the good ol’ days. \nWe meet on the first Friday of the month at 10 am in the back board room of the IBEW 569 Hall. \nContact: William Stedham at 619-957-2354 or ibew569retirees@gmail.com \nWebsite \n 
URL:https://ibew569.org/calendar/ibew-569-retirees/2025-12-05/
LOCATION:IBEW 569 San Diego Union Hall\, 4545 Viewridge Ave\, San Diego\, CA\, 92123\, United States
CATEGORIES:IBEW 569 Members
ATTACH;FMTTYPE=image/jpeg:https://www.ibew569.org/wp-content/uploads/2025/01/retirees2.jpeg
END:VEVENT
BEGIN:VEVENT
DTSTART;TZID=America/Los_Angeles:20251206T100000
DTEND;TZID=America/Los_Angeles:20251206T120000
DTSTAMP:20260423T014531
CREATED:20250108T233522Z
LAST-MODIFIED:20250108T233522Z
UID:10000859-1765015200-1765022400@ibew569.org
SUMMARY:IBEW 569 Alianza
DESCRIPTION:Alianza 569 is a subcommittee of the Electrical Workers Minority Caucus (EWMC) that seeks to further the purpose of the EWMC and IBEW by engaging with Latino communities throughout San Diego and Imperial Counties. Alianza assists in creating meaningful community connections that will foster business opportunities and diplomatic ties with local elected officials. \nFacebook | Instagram | Contact us at info@ewmc569.org (attn. Alianza).
URL:https://ibew569.org/calendar/ibew-569-alianza/2025-12-06/
LOCATION:IBEW 569 San Diego Union Hall\, 4545 Viewridge Ave\, San Diego\, CA\, 92123\, United States
CATEGORIES:IBEW 569 Members
ATTACH;FMTTYPE=image/jpeg:https://www.ibew569.org/wp-content/uploads/2025/01/308733080_463260665835185_8919783661399170000_n.jpg
END:VEVENT
BEGIN:VEVENT
DTSTART;TZID=America/Los_Angeles:20251206T100000
DTEND;TZID=America/Los_Angeles:20251206T120000
DTSTAMP:20260423T014531
CREATED:20250108T234327Z
LAST-MODIFIED:20250108T234327Z
UID:10000919-1765015200-1765022400@ibew569.org
SUMMARY:IBEW 569 EWMC
DESCRIPTION:The San Diego and Imperial County Electrical Workers Minority Caucus (EWMC) is committed to promoting a vibrant\, diverse Local that embraces creative ideas\, social and economic justice\, and equal opportunities for minorities and those from traditionally underrepresented populations at all levels of our organization. These principals are critical to the success of our Local and the strength of our community. \nInstagram | Website | Contact us at info@ewmc569.org (attn: Marcel McMillan)
URL:https://ibew569.org/calendar/ibew-569-ewmc/2025-12-06/
LOCATION:IBEW 569 San Diego Union Hall\, 4545 Viewridge Ave\, San Diego\, CA\, 92123\, United States
CATEGORIES:IBEW 569 Members
ATTACH;FMTTYPE=image/png:https://www.ibew569.org/wp-content/uploads/2025/01/Screenshot-2025-01-08-at-3.42.28 PM.png
END:VEVENT
BEGIN:VEVENT
DTSTART;TZID=America/Los_Angeles:20251206T160000
DTEND;TZID=America/Los_Angeles:20251206T210000
DTSTAMP:20260423T014531
CREATED:20251009T221022Z
LAST-MODIFIED:20251124T200419Z
UID:10001238-1765036800-1765054800@ibew569.org
SUMMARY:IBEW 569 San Diego Holiday Party - 2025
DESCRIPTION:Join us for fun and festivities\, drinks and good eats! We’ve been hearing rumors we may event get a surprise visit from a certain jolly bearded guy! \nDon’t forget your dues receipt! \nWhat: IBEW 569 San Diego Holiday Party \nWhere: IBEW 569 San Diego Union Hall\, 4545 Viewridge Ave.\, San Diego\, 92123 \nWhen: 4:00pm to 9:00pm
URL:https://ibew569.org/calendar/ibew-569-san-diego-holiday-party-2025/
LOCATION:IBEW 569 San Diego Union Hall\, 4545 Viewridge Ave\, San Diego\, CA\, 92123\, United States
CATEGORIES:IBEW 569 Members
ATTACH;FMTTYPE=image/jpeg:https://www.ibew569.org/wp-content/uploads/2025/10/2025-SD-Christmas-Party-Flyer.jpg
END:VEVENT
BEGIN:VEVENT
DTSTART;TZID=America/Los_Angeles:20251212T040000
DTEND;TZID=America/Los_Angeles:20251212T210000
DTSTAMP:20260423T014531
CREATED:20251009T221212Z
LAST-MODIFIED:20251202T180338Z
UID:10001239-1765512000-1765573200@ibew569.org
SUMMARY:IBEW 569 Imperial Valley Holiday Party - 2025
DESCRIPTION:Join us for fun and festivities\, drinks and good eats! We’ve been hearing rumors we may event get a surprise visit from a certain jolly bearded guy! \nDon’t forget your dues receipt! \nWhat: IBEW 569 Imperial Valley Holiday Party \nWhere: Imperial Valley Fairgrounds\, 200 E 2nd St.\, Imperial\, 92251 \nWhen: 4:00pm to 9:00pm
URL:https://ibew569.org/calendar/ibew-569-imperial-valley-holiday-party-2025/
LOCATION:Imperial Valley Fairgrounds.\, 200 E 2nd St\, Imperial\, 92251\, United States
CATEGORIES:IBEW 569 Members
ATTACH;FMTTYPE=image/jpeg:https://www.ibew569.org/wp-content/uploads/2025/10/2025-IV-Christmas-Party-Flyer.jpg
END:VEVENT
BEGIN:VEVENT
DTSTART;TZID=America/Los_Angeles:20251226T164500
DTEND;TZID=America/Los_Angeles:20251226T180000
DTSTAMP:20260423T014531
CREATED:20250108T234854Z
LAST-MODIFIED:20250108T235014Z
UID:10001099-1766767500-1766772000@ibew569.org
SUMMARY:IBEW 569 Renew
DESCRIPTION:The mission of the Reach out and Engage Next-gen Electrical Workers (RENEW) initiative is to inspire the next generation of IBEW workers to become active in their local union by focusing on issues important to younger workers\, providing education about the IBEW and the labor movement\, and fostering relationships with members and local union leadership. \nFacebook| Instagram | Contact us at renewibew569@gmail.com
URL:https://ibew569.org/calendar/ibew-569-renew/2025-12-26/
LOCATION:IBEW 569 San Diego Union Hall\, 4545 Viewridge Ave\, San Diego\, CA\, 92123\, United States
CATEGORIES:IBEW 569 Members
ATTACH;FMTTYPE=image/jpeg:https://www.ibew569.org/wp-content/uploads/2025/01/279447638_668875007843712_4121394071481270368_n.jpg
END:VEVENT
END:VCALENDAR