BEGIN:VCALENDAR
VERSION:2.0
PRODID:-//IBEW International Brotherhood of Electrical Workers Local 569 - ECPv6.15.13//NONSGML v1.0//EN
CALSCALE:GREGORIAN
METHOD:PUBLISH
X-WR-CALNAME:IBEW International Brotherhood of Electrical Workers Local 569
X-ORIGINAL-URL:https://ibew569.org
X-WR-CALDESC:Events for IBEW International Brotherhood of Electrical Workers Local 569
REFRESH-INTERVAL;VALUE=DURATION:PT1H
X-Robots-Tag:noindex
X-PUBLISHED-TTL:PT1H
BEGIN:VTIMEZONE
TZID:America/Los_Angeles
BEGIN:DAYLIGHT
TZOFFSETFROM:-0800
TZOFFSETTO:-0700
TZNAME:PDT
DTSTART:20210314T100000
END:DAYLIGHT
BEGIN:STANDARD
TZOFFSETFROM:-0700
TZOFFSETTO:-0800
TZNAME:PST
DTSTART:20211107T090000
END:STANDARD
BEGIN:DAYLIGHT
TZOFFSETFROM:-0800
TZOFFSETTO:-0700
TZNAME:PDT
DTSTART:20220313T100000
END:DAYLIGHT
BEGIN:STANDARD
TZOFFSETFROM:-0700
TZOFFSETTO:-0800
TZNAME:PST
DTSTART:20221106T090000
END:STANDARD
BEGIN:DAYLIGHT
TZOFFSETFROM:-0800
TZOFFSETTO:-0700
TZNAME:PDT
DTSTART:20230312T100000
END:DAYLIGHT
BEGIN:STANDARD
TZOFFSETFROM:-0700
TZOFFSETTO:-0800
TZNAME:PST
DTSTART:20231105T090000
END:STANDARD
END:VTIMEZONE
BEGIN:VEVENT
DTSTART;TZID=America/Los_Angeles:20221105T080000
DTEND;TZID=America/Los_Angeles:20221105T113000
DTSTAMP:20260425T085451
CREATED:20220929T172645Z
LAST-MODIFIED:20220929T172645Z
UID:10000636-1667635200-1667647800@ibew569.org
SUMMARY:Imperial Valley WALK to WIN with IBEW 569
DESCRIPTION:Join IBEW 569 and the Labor Council to WALK TO WIN more work by helping to elect candidates that support Unions! \nWe are walking every Saturday from October 1st thru November 8th (Election Day) at 8:00am from our IBEW 569 IV Hall: 2420 Imperial Business Park Dr\, Imperial\, CA 92251. \nJoin us!  Contact Hector Meza for questions or to RSVP: 858-302-7569 or hmeza@ibew569.org.
URL:https://ibew569.org/calendar/imperial-valley-walk-to-win-with-ibew-569/2022-11-05/
LOCATION:IBEW 569 Imperial County
CATEGORIES:IBEW 569 Members,Take Action
ATTACH;FMTTYPE=image/png:https://www.ibew569.org/wp-content/uploads/2022/07/fist.png
END:VEVENT
BEGIN:VEVENT
DTSTART;TZID=America/Los_Angeles:20221105T080000
DTEND;TZID=America/Los_Angeles:20221105T113000
DTSTAMP:20260425T085451
CREATED:20221010T194943Z
LAST-MODIFIED:20221010T194943Z
UID:10000644-1667635200-1667647800@ibew569.org
SUMMARY:IBEW 569 - GET OUT THE VOTE - for Yes on D / SAFEGUARD SD
DESCRIPTION:We need 40 IBEW 569 volunteers for this event – our weekend toward winning our campaigns in 2022! \nJoin the San Diego County Building Trades and the Labor Council this Saturday and make a difference in the lives of working families across our communities – and help elect candidates that support more working families! See you on Saturday! \nWHAT: GET OUT THE VOTE Yes on D / SAFEGUARD SD Lit Drop and Help Elect Friends of Labor \nDATE AND TIME: Saturday\, November 5th | 8:00am-11:30am \nLOCATION: Standley Park\, 3585 Governor Dr\, San Diego\, CA 92122 \nRSVP: bit.ly/11-5-22-SDBT \nContact: Gretchen Newsom\, IBEW 569\, 619-208-4853 cell or gnewsom@ibew569.org \nWe will provide: \n• Training on how to do a lit drop \n• Lunch \n• A raffle for San Diego Building Trades gear\, and more!
URL:https://ibew569.org/calendar/ibew-569-get-out-the-vote-for-yes-on-d-safeguard-sd/
LOCATION:CA
CATEGORIES:IBEW 569 Members,Take Action
ATTACH;FMTTYPE=image/jpeg:https://www.ibew569.org/wp-content/uploads/2022/10/2022-SD-BT-Election-Flyers-3.jpg
END:VEVENT
BEGIN:VEVENT
DTSTART;TZID=America/Los_Angeles:20221109T173000
DTEND;TZID=America/Los_Angeles:20221109T173000
DTSTAMP:20260425T085451
CREATED:20220201T211400Z
LAST-MODIFIED:20220712T162702Z
UID:10000571-1668015000-1668015000@ibew569.org
SUMMARY:IBEW 569 Union Meeting
DESCRIPTION:Attention IBEW 569 Members: \nCome to our IBEW 569 Union Meeting to stay informed and get involved! We’ll swear-in new members and welcome them to the Union; receive reports on Union actions and activities; conduct Union business; discuss concerns. \nIBEW 569 hosts our Union Meetings simultaneously – in person in San Diego and in Imperial Valley over closed circuit television (CCTV) – and invites our Imperial Valley members to get empowered by participating in our union meetings! \nDue to COVID and the rise of the Delta variant\, all meeting participants must wear a mask to protect our brothers and sisters attending the meeting. We will be following CDC and County guidelines for updates. \nThis monthly meeting creates an opportunity for both new and experienced membership to come together and get engaged with our local union. \nWHAT: IBEW 569 Union Meeting \nWHEN: Wednesday\, November 9th\, 5:30pm \nWHERE: IBEW 569 Union Halls (4545 Viewridge Avenue\, San Diego\, CA 92123 AND 2420 Imperial Business Park Drive\, Imperial\, CA 92251)
URL:https://ibew569.org/calendar/calendar-ibew-569-union-meeting-52/
LOCATION:IBEW 569 San Diego Union Hall\, 4545 Viewridge Ave\, San Diego\, CA\, 92123\, United States
CATEGORIES:IBEW 569 Members
ATTACH;FMTTYPE=image/png:https://www.ibew569.org/wp-content/uploads/2022/07/ibew_569_union_meeting.png
END:VEVENT
BEGIN:VEVENT
DTSTART;TZID=America/Los_Angeles:20221110T163000
DTEND;TZID=America/Los_Angeles:20221110T163000
DTSTAMP:20260425T085451
CREATED:20220427T011300Z
LAST-MODIFIED:20220712T162659Z
UID:10000509-1668097800-1668097800@ibew569.org
SUMMARY:RENEW Meeting
DESCRIPTION:RENEW Monthly Committee meeting Thursdays after the Union Meeting at 4:30pm via Zoom or at the Hall. \nZoom link is: https://us02web.zoom.us/j/83636058758?pwd=THdiNmxQSDhZTEpmTDRsZXF1TElTUT09
URL:https://ibew569.org/calendar/calendar-renew-meeting-12/
LOCATION:CA
CATEGORIES:IBEW 569 Members
ATTACH;FMTTYPE=image/png:https://www.ibew569.org/wp-content/uploads/2022/07/screen_shot_2021-10-06_at_4.51.50_pm.png
END:VEVENT
BEGIN:VEVENT
DTSTART;TZID=America/Los_Angeles:20221111T080000
DTEND;TZID=America/Los_Angeles:20221111T080000
DTSTAMP:20260425T085451
CREATED:20211228T191000Z
LAST-MODIFIED:20220712T162656Z
UID:10000543-1668153600-1668153600@ibew569.org
SUMMARY:IBEW 569 Holiday - Veterans Day
DESCRIPTION:Below are our 2022 IBEW 569 Holidays. If you work on one these holidays\, you will earn double pay (2x your regular rate of pay). Please refer to your Agreement for additional details. \n\n\n\nHOLIDAY\nDATE\n\n\n\n\n\n\nNEW YEAR’S DAY \n12/31/2021 \n\n\nMARTIN LUTHER KING DAY* \n1/17/2022 \n\n\nPRESIDENTS DAY** \n2/21/2022 \n\n\nCESAR CHAVEZ DAY* \n3/31/2022 \n\n\nMEMORIAL DAY \n5/30/2022 \n\n\nFOURTH OF JULY \n7/4/2022 \n\n\nLABOR DAY \n9/5/2022 \n\n\nVETERAN’S DAY \n11/11/2022 \n\n\nTHANKSGIVING DAY \n11/24/2022 \n\n\nFRIDAY AFTER THANKSGIVING \n11/25/2022 \n\n\nCHRISTMAS DAY \n12/26/2022 \n\n\n\n* Optional Holiday\, not eligible for Double Pay/Holiday Pay. See Agreement for more details.  \n** Holiday with Double Pay for members under the Inside Agreement. Optional Holiday for members under the Sound Agreement\, not eligible for Double Pay/Holiday Pay. See Agreement for more details.
URL:https://ibew569.org/calendar/calendar-ibew-569-holiday-veterans-day-2/
LOCATION:CA
CATEGORIES:IBEW 569 Members
ATTACH;FMTTYPE=image/png:https://www.ibew569.org/wp-content/uploads/2022/07/ibew_569_union_holiday.png
END:VEVENT
BEGIN:VEVENT
DTSTART;TZID=America/Los_Angeles:20221124T080000
DTEND;TZID=America/Los_Angeles:20221124T080000
DTSTAMP:20260425T085451
CREATED:20211228T191100Z
LAST-MODIFIED:20221118T174637Z
UID:10000544-1669276800-1669276800@ibew569.org
SUMMARY:IBEW 569 Holiday - Thanksgiving
DESCRIPTION:Below are our 2022 IBEW 569 Holidays. If you work on one these holidays\, you will earn double pay (2x your regular rate of pay). Please refer to your Agreement for additional details. Our offices will be closed on these holidays. \n\n\n\nHOLIDAY\nDATE\n\n\n\n\n\n\nNEW YEAR’S DAY \n12/31/2021 \n\n\nMARTIN LUTHER KING DAY* \n1/17/2022 \n\n\nPRESIDENTS DAY** \n2/21/2022 \n\n\nCESAR CHAVEZ DAY* \n3/31/2022 \n\n\nMEMORIAL DAY \n5/30/2022 \n\n\nFOURTH OF JULY \n7/4/2022 \n\n\nLABOR DAY \n9/5/2022 \n\n\nVETERAN’S DAY \n11/11/2022 \n\n\nTHANKSGIVING DAY \n11/24/2022 \n\n\nFRIDAY AFTER THANKSGIVING \n11/25/2022 \n\n\nCHRISTMAS DAY \n12/26/2022 \n\n\n\n* Optional Holiday\, not eligible for Double Pay/Holiday Pay. See Agreement for more details.  \n** Holiday with Double Pay for members under the Inside Agreement. Optional Holiday for members under the Sound Agreement\, not eligible for Double Pay/Holiday Pay. See Agreement for more details.
URL:https://ibew569.org/calendar/calendar-ibew-569-holiday-thanksgiving-1/
LOCATION:CA
CATEGORIES:IBEW 569 Members
ATTACH;FMTTYPE=image/png:https://www.ibew569.org/wp-content/uploads/2022/07/ibew_569_union_holiday.png
END:VEVENT
BEGIN:VEVENT
DTSTART;TZID=America/Los_Angeles:20221125T080000
DTEND;TZID=America/Los_Angeles:20221125T080000
DTSTAMP:20260425T085451
CREATED:20211228T191200Z
LAST-MODIFIED:20221118T174605Z
UID:10000545-1669363200-1669363200@ibew569.org
SUMMARY:IBEW 569 Holiday - Day After Thanksgiving
DESCRIPTION:Below are our 2022 IBEW 569 Holidays. If you work on one these holidays\, you will earn double pay (2x your regular rate of pay). Please refer to your Agreement for additional details. Our offices will be closed on these holidays. \n\n\n\nHOLIDAY\nDATE\n\n\n\n\n\n\nNEW YEAR’S DAY \n12/31/2021 \n\n\nMARTIN LUTHER KING DAY* \n1/17/2022 \n\n\nPRESIDENTS DAY** \n2/21/2022 \n\n\nCESAR CHAVEZ DAY* \n3/31/2022 \n\n\nMEMORIAL DAY \n5/30/2022 \n\n\nFOURTH OF JULY \n7/4/2022 \n\n\nLABOR DAY \n9/5/2022 \n\n\nVETERAN’S DAY \n11/11/2022 \n\n\nTHANKSGIVING DAY \n11/24/2022 \n\n\nFRIDAY AFTER THANKSGIVING \n11/25/2022 \n\n\nCHRISTMAS DAY \n12/26/2022 \n\n\n\n* Optional Holiday\, not eligible for Double Pay/Holiday Pay. See Agreement for more details.  \n** Holiday with Double Pay for members under the Inside Agreement. Optional Holiday for members under the Sound Agreement\, not eligible for Double Pay/Holiday Pay. See Agreement for more details.
URL:https://ibew569.org/calendar/calendar-ibew-569-holiday-day-after-thanksgiving/
LOCATION:CA
CATEGORIES:IBEW 569 Members
ATTACH;FMTTYPE=image/png:https://www.ibew569.org/wp-content/uploads/2022/07/ibew_569_union_holiday.png
END:VEVENT
END:VCALENDAR