BEGIN:VCALENDAR
VERSION:2.0
PRODID:-//IBEW International Brotherhood of Electrical Workers Local 569 - ECPv6.15.13//NONSGML v1.0//EN
CALSCALE:GREGORIAN
METHOD:PUBLISH
X-WR-CALNAME:IBEW International Brotherhood of Electrical Workers Local 569
X-ORIGINAL-URL:https://ibew569.org
X-WR-CALDESC:Events for IBEW International Brotherhood of Electrical Workers Local 569
REFRESH-INTERVAL;VALUE=DURATION:PT1H
X-Robots-Tag:noindex
X-PUBLISHED-TTL:PT1H
BEGIN:VTIMEZONE
TZID:America/Los_Angeles
BEGIN:DAYLIGHT
TZOFFSETFROM:-0800
TZOFFSETTO:-0700
TZNAME:PDT
DTSTART:20220313T100000
END:DAYLIGHT
BEGIN:STANDARD
TZOFFSETFROM:-0700
TZOFFSETTO:-0800
TZNAME:PST
DTSTART:20221106T090000
END:STANDARD
BEGIN:DAYLIGHT
TZOFFSETFROM:-0800
TZOFFSETTO:-0700
TZNAME:PDT
DTSTART:20230312T100000
END:DAYLIGHT
BEGIN:STANDARD
TZOFFSETFROM:-0700
TZOFFSETTO:-0800
TZNAME:PST
DTSTART:20231105T090000
END:STANDARD
BEGIN:DAYLIGHT
TZOFFSETFROM:-0800
TZOFFSETTO:-0700
TZNAME:PDT
DTSTART:20240310T100000
END:DAYLIGHT
BEGIN:STANDARD
TZOFFSETFROM:-0700
TZOFFSETTO:-0800
TZNAME:PST
DTSTART:20241103T090000
END:STANDARD
END:VTIMEZONE
BEGIN:VEVENT
DTSTART;TZID=America/Los_Angeles:20230616T180000
DTEND;TZID=America/Los_Angeles:20230616T203000
DTSTAMP:20260421T012825
CREATED:20230503T184412Z
LAST-MODIFIED:20230503T184512Z
UID:10000690-1686938400-1686947400@ibew569.org
SUMMARY:ETI Apprenticeship Graduation & Dinner
DESCRIPTION:Electrical Training Institute \nApprenticeship Graduation Ceremony & Dinner\n96 Apprenticeship Graduates (86 Inside\, 10 Sound) \nWHAT: 2023 Electrical and Sound & Telecommunication Apprenticeship Graduation \nWHERE: Hilton San Diego Bayfront\, Indigo Ballroom\, 1 Park Blvd\, San Diego\, CA 92101 \nWHEN: Friday\, June 16\, 2023 | 6:00pm No Host Reception – 7:00pm Dinner and Ceremony \nNOTES: Tickets are $60 per adult\, $40 per child (3-12) – available through June 2nd. See flyers for details and contact ETI for tickets. \n2023 ETI Graduation Flyer 1 \n2023 ETI Graduation Flyer 2
URL:https://ibew569.org/calendar/eti-apprenticeship-graduation-dinner/
LOCATION:CA
CATEGORIES:Community
ATTACH;FMTTYPE=image/jpeg:https://www.ibew569.org/wp-content/uploads/2023/05/52259963732_085823facd_c.jpg
END:VEVENT
BEGIN:VEVENT
DTSTART;TZID=America/Los_Angeles:20230624T100000
DTEND;TZID=America/Los_Angeles:20230624T160000
DTSTAMP:20260421T012825
CREATED:20230511T003340Z
LAST-MODIFIED:20230511T003340Z
UID:10000692-1687600800-1687622400@ibew569.org
SUMMARY:​2023 IBEW 569 Family Picnic
DESCRIPTION:​2023 IBEW 569 Family Picnic \nSaturday\, June 24\, 2023\nSantee Lakes #5\n9310 Fanita Parkway\nSantee\, CA 92071\n10:00am – 4:00pm \nRSVP so we know how much food and beer to order: https://actionnetwork.org/events/2023-ibew-569-family-picnic/ \nWe invite you to join our 2023 IBEW 569 Family Picnic for a full day of fun\, food\, and sun! \n– Must bring dues receipt to be eligible for prizes!\n– No dogs allowed!\n– The entrance fee is $6.00 per vehicle – all forms of payment accepted!\n– Bring chairs\, canopies\, and blankets as seating is limited!
URL:https://ibew569.org/calendar/2023-ibew-569-family-picnic/
LOCATION:Santee Lakes
CATEGORIES:Community,IBEW 569 Members
ATTACH;FMTTYPE=image/jpeg:https://www.ibew569.org/wp-content/uploads/2023/05/PICNIC.jpeg
END:VEVENT
END:VCALENDAR