BEGIN:VCALENDAR
VERSION:2.0
PRODID:-//IBEW International Brotherhood of Electrical Workers Local 569 - ECPv6.15.13//NONSGML v1.0//EN
CALSCALE:GREGORIAN
METHOD:PUBLISH
X-WR-CALNAME:IBEW International Brotherhood of Electrical Workers Local 569
X-ORIGINAL-URL:https://ibew569.org
X-WR-CALDESC:Events for IBEW International Brotherhood of Electrical Workers Local 569
REFRESH-INTERVAL;VALUE=DURATION:PT1H
X-Robots-Tag:noindex
X-PUBLISHED-TTL:PT1H
BEGIN:VTIMEZONE
TZID:America/Los_Angeles
BEGIN:DAYLIGHT
TZOFFSETFROM:-0800
TZOFFSETTO:-0700
TZNAME:PDT
DTSTART:20180311T100000
END:DAYLIGHT
BEGIN:STANDARD
TZOFFSETFROM:-0700
TZOFFSETTO:-0800
TZNAME:PST
DTSTART:20181104T090000
END:STANDARD
BEGIN:DAYLIGHT
TZOFFSETFROM:-0800
TZOFFSETTO:-0700
TZNAME:PDT
DTSTART:20190310T100000
END:DAYLIGHT
BEGIN:STANDARD
TZOFFSETFROM:-0700
TZOFFSETTO:-0800
TZNAME:PST
DTSTART:20191103T090000
END:STANDARD
BEGIN:DAYLIGHT
TZOFFSETFROM:-0800
TZOFFSETTO:-0700
TZNAME:PDT
DTSTART:20200308T100000
END:DAYLIGHT
BEGIN:STANDARD
TZOFFSETFROM:-0700
TZOFFSETTO:-0800
TZNAME:PST
DTSTART:20201101T090000
END:STANDARD
END:VTIMEZONE
BEGIN:VEVENT
DTSTART;TZID=America/Los_Angeles:20190720T090000
DTEND;TZID=America/Los_Angeles:20190720T130000
DTSTAMP:20260425T200140
CREATED:20190708T214900Z
LAST-MODIFIED:20220713T023609Z
UID:10000442-1563613200-1563627600@ibew569.org
SUMMARY:Nestor Community Clean-Up! Volunteer with Alianza 569 & Councilmember Vivian Moreno
DESCRIPTION:Volunteer with Alianza 569 and Councilmember Vivian Moreno at a Nestor Community Clean-Up! \nNESTOR COMMUNITY CLEAN-UP \nDate: Saturday\, July 20\, 2019 \nTime : 9:00 AM – 1:00 PM \nLocation: Robert Egger Sr. South Bay Recreation Center\, \n1885 Coronado Avenue\, San Diego\, CA 92154 \n​CLICK HERE TO RSVP!​ \n  \n\n\nalianza_beach.jpg\n\n\n\n 
URL:https://ibew569.org/calendar/calendar-nestor-community-clean-volunteer-alianza-569-councilmember-vivian-moreno/
LOCATION:CA
CATEGORIES:Community,IBEW 569 Members
ATTACH;FMTTYPE=image/png:https://www.ibew569.org/wp-content/uploads/2022/07/nestor_community_clean-up.png
END:VEVENT
END:VCALENDAR